BEGIN:VCALENDAR
VERSION:2.0
PRODID:spatie/icalendar-generator
DESCRIPTION:Évènements de Guilde Internationale des Fromagers
X-WR-CALDESC:Évènements de Guilde Internationale des Fromagers
REFRESH-INTERVAL;VALUE=DURATION:PT1440M
X-PUBLISHED-TTL:PT1440M
BEGIN:VTIMEZONE
TZID:Europe/Paris
BEGIN:STANDARD
DTSTART:20241027T030000Z
TZOFFSETFROM:+0200
TZOFFSETTO:+0100
END:STANDARD
BEGIN:DAYLIGHT
DTSTART:20250330T020000Z
TZOFFSETFROM:+0100
TZOFFSETTO:+0200
END:DAYLIGHT
BEGIN:STANDARD
DTSTART:20251026T030000Z
TZOFFSETFROM:+0200
TZOFFSETTO:+0100
END:STANDARD
END:VTIMEZONE
BEGIN:VTIMEZONE
TZID:UTC
BEGIN:STANDARD
DTSTART:20250724T001406Z
TZOFFSETFROM:+0000
TZOFFSETTO:+0000
END:STANDARD
END:VTIMEZONE
BEGIN:VEVENT
UID:6-6
DTSTAMP:20260420T001406Z
SUMMARY:Club New World - Fancy Food Show Summer\, New York (USA)
LOCATION:
ORGANIZER;CN=La Guilde des Fromagers:MAILTO:e.barraud@laclefnumerique.com
DTSTART;TZID=Europe/Paris;VALUE=DATE:20250630
DTEND;TZID=Europe/Paris;VALUE=DATE:20250701
X-ALT-DESC;FMTTYPE=TEXT/HTML:
CATEGORIES:General
URL;VALUE=URI:https://www.guildedesfromagers.fr/wp/mc-events/club-new-world
 -fancy-food-show-summer-new-york-usa/
METHOD:PUBLISH
END:VEVENT
END:VCALENDAR